BEGIN:VCALENDAR
VERSION:2.0
PRODID:-//Marktgemeinde Thal - ECPv4.6.11.1//NONSGML v1.0//EN
CALSCALE:GREGORIAN
METHOD:PUBLISH
X-WR-CALNAME:Marktgemeinde Thal
X-ORIGINAL-URL:https://thal.gv.at
X-WR-CALDESC:Veranstaltungen für Marktgemeinde Thal
BEGIN:VEVENT
DTSTART;TZID=Europe/Berlin:20260424T113609
DTEND;TZID=Europe/Berlin:20260424T113609
DTSTAMP:20260424T093609
CREATED:20231220T094236Z
LAST-MODIFIED:20231220T094236Z
UID:11177-1777030569-1777030569@thal.gv.at
SUMMARY:Vogelbichl
DESCRIPTION:
URL:https://thal.gv.at/veranstaltungsort/vogelbichl/
END:VEVENT
END:VCALENDAR