BEGIN:VCALENDAR
VERSION:2.0
PRODID:-//Marktgemeinde Thal - ECPv4.6.11.1//NONSGML v1.0//EN
CALSCALE:GREGORIAN
METHOD:PUBLISH
X-WR-CALNAME:Marktgemeinde Thal
X-ORIGINAL-URL:https://thal.gv.at
X-WR-CALDESC:Veranstaltungen für Marktgemeinde Thal
BEGIN:VEVENT
DTSTART;TZID=Europe/Berlin:20260423T060003
DTEND;TZID=Europe/Berlin:20260423T060003
DTSTAMP:20260423T040003
CREATED:20231214T160812Z
LAST-MODIFIED:20231214T160812Z
UID:11080-1776924003-1776924003@thal.gv.at
SUMMARY:Vereinsheim
DESCRIPTION:
URL:https://thal.gv.at/veranstaltungsort/vereinsheim/
END:VEVENT
END:VCALENDAR