BEGIN:VCALENDAR
VERSION:2.0
PRODID:-//Marktgemeinde Thal - ECPv4.6.11.1//NONSGML v1.0//EN
CALSCALE:GREGORIAN
METHOD:PUBLISH
X-WR-CALNAME:Marktgemeinde Thal
X-ORIGINAL-URL:https://thal.gv.at
X-WR-CALDESC:Veranstaltungen für Marktgemeinde Thal
BEGIN:VEVENT
DTSTART;TZID=Europe/Berlin:20260425T182041
DTEND;TZID=Europe/Berlin:20260425T182041
DTSTAMP:20260425T162041
CREATED:20200120T075554Z
LAST-MODIFIED:20200120T075554Z
UID:5937-1777141241-1777141241@thal.gv.at
SUMMARY:Thalsaal
DESCRIPTION:
URL:https://thal.gv.at/veranstaltungsort/thalsaal/
END:VEVENT
END:VCALENDAR