BEGIN:VCALENDAR
VERSION:2.0
PRODID:-//Marktgemeinde Thal - ECPv4.6.11.1//NONSGML v1.0//EN
CALSCALE:GREGORIAN
METHOD:PUBLISH
X-WR-CALNAME:Marktgemeinde Thal
X-ORIGINAL-URL:https://thal.gv.at
X-WR-CALDESC:Veranstaltungen für Marktgemeinde Thal
BEGIN:VEVENT
DTSTART;TZID=Europe/Berlin:20260425T174815
DTEND;TZID=Europe/Berlin:20260425T174815
DTSTAMP:20260425T154815
CREATED:20201217T130958Z
LAST-MODIFIED:20201217T130958Z
UID:8369-1777139295-1777139295@thal.gv.at
SUMMARY:Sporthalle
DESCRIPTION:
URL:https://thal.gv.at/veranstaltungsort/sporthalle-2/
END:VEVENT
END:VCALENDAR