BEGIN:VCALENDAR
VERSION:2.0
PRODID:-//Marktgemeinde Thal - ECPv4.6.11.1//NONSGML v1.0//EN
CALSCALE:GREGORIAN
METHOD:PUBLISH
X-WR-CALNAME:Marktgemeinde Thal
X-ORIGINAL-URL:https://thal.gv.at
X-WR-CALDESC:Veranstaltungen für Marktgemeinde Thal
BEGIN:VEVENT
DTSTART;TZID=Europe/Berlin:20260424T023556
DTEND;TZID=Europe/Berlin:20260424T023556
DTSTAMP:20260424T003556
CREATED:20200109T070731Z
LAST-MODIFIED:20200109T070731Z
UID:5582-1776998156-1776998156@thal.gv.at
SUMMARY:Schloss Thal
DESCRIPTION:
URL:https://thal.gv.at/veranstaltungsort/schloss-thal/
END:VEVENT
END:VCALENDAR