BEGIN:VCALENDAR
VERSION:2.0
PRODID:-//Marktgemeinde Thal - ECPv4.6.11.1//NONSGML v1.0//EN
CALSCALE:GREGORIAN
METHOD:PUBLISH
X-WR-CALNAME:Marktgemeinde Thal
X-ORIGINAL-URL:https://thal.gv.at
X-WR-CALDESC:Veranstaltungen für Marktgemeinde Thal
BEGIN:VEVENT
DTSTART;TZID=Europe/Berlin:20260425T124836
DTEND;TZID=Europe/Berlin:20260425T124836
DTSTAMP:20260425T104836
CREATED:20231214T161208Z
LAST-MODIFIED:20231214T161208Z
UID:11085-1777121316-1777121316@thal.gv.at
SUMMARY:Schladming
DESCRIPTION:
URL:https://thal.gv.at/veranstaltungsort/schladming/
END:VEVENT
END:VCALENDAR