BEGIN:VCALENDAR
VERSION:2.0
PRODID:-//Marktgemeinde Thal - ECPv4.6.11.1//NONSGML v1.0//EN
CALSCALE:GREGORIAN
METHOD:PUBLISH
X-WR-CALNAME:Marktgemeinde Thal
X-ORIGINAL-URL:https://thal.gv.at
X-WR-CALDESC:Veranstaltungen für Marktgemeinde Thal
BEGIN:VEVENT
DTSTART;TZID=Europe/Berlin:20260425T155004
DTEND;TZID=Europe/Berlin:20260425T155004
DTSTAMP:20260425T135004
CREATED:20250314T080859Z
LAST-MODIFIED:20250314T080859Z
UID:12470-1777132204-1777132204@thal.gv.at
SUMMARY:Marktgemeinde Hitzendorf
DESCRIPTION:
URL:https://thal.gv.at/veranstaltungsort/marktgemeinde-hitzendorf/
END:VEVENT
END:VCALENDAR