BEGIN:VCALENDAR
VERSION:2.0
PRODID:-//Marktgemeinde Thal - ECPv4.6.11.1//NONSGML v1.0//EN
CALSCALE:GREGORIAN
METHOD:PUBLISH
X-WR-CALNAME:Marktgemeinde Thal
X-ORIGINAL-URL:https://thal.gv.at
X-WR-CALDESC:Veranstaltungen für Marktgemeinde Thal
BEGIN:VEVENT
DTSTART;TZID=Europe/Berlin:20260424T185541
DTEND;TZID=Europe/Berlin:20260424T185541
DTSTAMP:20260424T165541
CREATED:20251218T132517Z
LAST-MODIFIED:20251218T132517Z
UID:13281-1777056941-1777056941@thal.gv.at
SUMMARY:Lachtal
DESCRIPTION:
URL:https://thal.gv.at/veranstaltungsort/lachtal/
END:VEVENT
END:VCALENDAR