BEGIN:VCALENDAR
VERSION:2.0
PRODID:-//Marktgemeinde Thal - ECPv4.6.11.1//NONSGML v1.0//EN
CALSCALE:GREGORIAN
METHOD:PUBLISH
X-WR-CALNAME:Marktgemeinde Thal
X-ORIGINAL-URL:https://thal.gv.at
X-WR-CALDESC:Veranstaltungen für Marktgemeinde Thal
BEGIN:VEVENT
DTSTART;TZID=Europe/Berlin:20260425T174023
DTEND;TZID=Europe/Berlin:20260425T174023
DTSTAMP:20260425T154023
CREATED:20181207T081122Z
LAST-MODIFIED:20181207T081122Z
UID:4441-1777138823-1777138823@thal.gv.at
SUMMARY:Fam. Mandl ("Hiaslwirt")
DESCRIPTION:
URL:https://thal.gv.at/veranstaltungsort/fam-mandl-hiaslwirt/
END:VEVENT
END:VCALENDAR