BEGIN:VCALENDAR
VERSION:2.0
PRODID:-//Marktgemeinde Thal - ECPv4.6.11.1//NONSGML v1.0//EN
CALSCALE:GREGORIAN
METHOD:PUBLISH
X-WR-CALNAME:Marktgemeinde Thal
X-ORIGINAL-URL:https://thal.gv.at
X-WR-CALDESC:Veranstaltungen für Marktgemeinde Thal
BEGIN:VEVENT
DTSTART;TZID=Europe/Berlin:20260424T150530
DTEND;TZID=Europe/Berlin:20260424T150530
DTSTAMP:20260424T130530
CREATED:20231215T103418Z
LAST-MODIFIED:20231215T103418Z
UID:11149-1777043130-1777043130@thal.gv.at
SUMMARY:Die Thalerei
DESCRIPTION:
URL:https://thal.gv.at/veranstaltungsort/die-thalerei/
END:VEVENT
END:VCALENDAR