BEGIN:VCALENDAR
VERSION:2.0
PRODID:-//Marktgemeinde Thal - ECPv4.6.11.1//NONSGML v1.0//EN
CALSCALE:GREGORIAN
METHOD:PUBLISH
X-WR-CALNAME:Marktgemeinde Thal
X-ORIGINAL-URL:https://thal.gv.at
X-WR-CALDESC:Veranstaltungen für Marktgemeinde Thal
BEGIN:VEVENT
DTSTART;TZID=Europe/Berlin:20260425T233630
DTEND;TZID=Europe/Berlin:20260425T233630
DTSTAMP:20260425T213630
CREATED:20231215T103418Z
LAST-MODIFIED:20231215T103418Z
UID:11149-1777160190-1777160190@thal.gv.at
SUMMARY:Die Thalerei
DESCRIPTION:
URL:https://thal.gv.at/veranstaltungsort/die-thalerei/
END:VEVENT
END:VCALENDAR