BEGIN:VCALENDAR
VERSION:2.0
PRODID:-//Marktgemeinde Thal - ECPv4.6.11.1//NONSGML v1.0//EN
CALSCALE:GREGORIAN
METHOD:PUBLISH
X-WR-CALNAME:Marktgemeinde Thal
X-ORIGINAL-URL:https://thal.gv.at
X-WR-CALDESC:Veranstaltungen für Marktgemeinde Thal
BEGIN:VEVENT
DTSTART;TZID=Europe/Berlin:20260424T060501
DTEND;TZID=Europe/Berlin:20260424T060501
DTSTAMP:20260424T040501
CREATED:20200109T081518Z
LAST-MODIFIED:20200109T081518Z
UID:5618-1777010701-1777010701@thal.gv.at
SUMMARY:An der Schlossmauer
DESCRIPTION:
URL:https://thal.gv.at/veranstaltungsort/an-der-schlossmauer/
END:VEVENT
END:VCALENDAR