BEGIN:VCALENDAR
VERSION:2.0
PRODID:-//Marktgemeinde Thal - ECPv4.6.11.1//NONSGML v1.0//EN
CALSCALE:GREGORIAN
METHOD:PUBLISH
X-WR-CALNAME:Marktgemeinde Thal
X-ORIGINAL-URL:https://thal.gv.at
X-WR-CALDESC:Veranstaltungen für Marktgemeinde Thal
BEGIN:VEVENT
DTSTART;VALUE=DATE:20260401
DTEND;VALUE=DATE:20260402
DTSTAMP:20260422T141856
CREATED:20251127T105024Z
LAST-MODIFIED:20251127T105024Z
UID:13101-1775001600-1775087999@thal.gv.at
SUMMARY:Bioabfall
DESCRIPTION:
URL:https://thal.gv.at/veranstaltung/bioabfall-145/
CATEGORIES:Abfuhrkalender,Biomüll (Bio)
END:VEVENT
BEGIN:VEVENT
DTSTART;VALUE=DATE:20260403
DTEND;VALUE=DATE:20260404
DTSTAMP:20260422T141856
CREATED:20251217T071316Z
LAST-MODIFIED:20251217T071316Z
UID:13187-1775174400-1775260799@thal.gv.at
SUMMARY:Altpapier
DESCRIPTION:
URL:https://thal.gv.at/veranstaltung/altpapier-39/
CATEGORIES:Abfuhrkalender,Altpapier
END:VEVENT
BEGIN:VEVENT
DTSTART;VALUE=DATE:20260409
DTEND;VALUE=DATE:20260410
DTSTAMP:20260422T141856
CREATED:20251127T115232Z
LAST-MODIFIED:20251127T115232Z
UID:13103-1775692800-1775779199@thal.gv.at
SUMMARY:Bioabfall
DESCRIPTION:
URL:https://thal.gv.at/veranstaltung/bioabfall-146/
CATEGORIES:Abfuhrkalender,Biomüll (Bio)
END:VEVENT
BEGIN:VEVENT
DTSTART;VALUE=DATE:20260409
DTEND;VALUE=DATE:20260410
DTSTAMP:20260422T141856
CREATED:20251217T070211Z
LAST-MODIFIED:20251217T070211Z
UID:13177-1775692800-1775779199@thal.gv.at
SUMMARY:Gefäßreinigung Bioabfall
DESCRIPTION:
URL:https://thal.gv.at/veranstaltung/gefaessreinigung-bioabfall-11/
CATEGORIES:Abfuhrkalender,Biomüll (Bio)
END:VEVENT
BEGIN:VEVENT
DTSTART;VALUE=DATE:20260409
DTEND;VALUE=DATE:20260410
DTSTAMP:20260422T141856
CREATED:20251217T090842Z
LAST-MODIFIED:20251217T090842Z
UID:13211-1775692800-1775779199@thal.gv.at
SUMMARY:Restmüll (Tour 1)
DESCRIPTION:\nEben\nEck\nHaslau\nHardt\nSteinberg\nKirchberg\nUnterthal\nUnterbichl\nWindhof\nLinak\nPlabutsch\n\n
URL:https://thal.gv.at/veranstaltung/restmuell-tour-1-40/
CATEGORIES:Abfuhrkalender,Restmüll Tour 1
END:VEVENT
BEGIN:VEVENT
DTSTART;VALUE=DATE:20260410
DTEND;VALUE=DATE:20260411
DTSTAMP:20260422T141856
CREATED:20251218T102754Z
LAST-MODIFIED:20251218T102754Z
UID:13237-1775779200-1775865599@thal.gv.at
SUMMARY:Restmüll (Tour2)
DESCRIPTION:\nKötschberg\nOberbichl\nOberthal\nSchlüsselhof\nWaldsdorf\nWaldsdorfberg\nWendlleiten\nWinkel\n\n
URL:https://thal.gv.at/veranstaltung/restmuell-tour2-34/
CATEGORIES:Abfuhrkalender,Restmüll Tour 2
END:VEVENT
BEGIN:VEVENT
DTSTART;TZID=Europe/Berlin:20260410T060000
DTEND;TZID=Europe/Berlin:20260410T170000
DTSTAMP:20260422T141856
CREATED:20251124T093133Z
LAST-MODIFIED:20251124T093133Z
UID:13075-1775800800-1775840400@thal.gv.at
SUMMARY:Sperrmüll/Problemstoffe
DESCRIPTION:
URL:https://thal.gv.at/veranstaltung/sperrmuellproblemstoffe-34/
CATEGORIES:Abfuhrkalender,Sperrmüll / Problemstoff (SM)
END:VEVENT
BEGIN:VEVENT
DTSTART;VALUE=DATE:20260415
DTEND;VALUE=DATE:20260416
DTSTAMP:20260422T141856
CREATED:20251127T115757Z
LAST-MODIFIED:20251127T115757Z
UID:13105-1776211200-1776297599@thal.gv.at
SUMMARY:Bioabfall
DESCRIPTION:
URL:https://thal.gv.at/veranstaltung/bioabfall-147/
CATEGORIES:Abfuhrkalender,Biomüll (Bio)
END:VEVENT
BEGIN:VEVENT
DTSTART;VALUE=DATE:20260417
DTEND;VALUE=DATE:20260418
DTSTAMP:20260422T141856
CREATED:20251218T114929Z
LAST-MODIFIED:20251218T115248Z
UID:13261-1776384000-1776470399@thal.gv.at
SUMMARY:Leicht- und Metallverpackungen (LVP/MVP)
DESCRIPTION:
URL:https://thal.gv.at/veranstaltung/leicht-und-metallverpackungen-lvpmvp-12/
CATEGORIES:Abfuhrkalender,Kunststoffverpackungen
END:VEVENT
BEGIN:VEVENT
DTSTART;VALUE=DATE:20260422
DTEND;VALUE=DATE:20260423
DTSTAMP:20260422T141856
CREATED:20251127T115953Z
LAST-MODIFIED:20251127T115953Z
UID:13107-1776816000-1776902399@thal.gv.at
SUMMARY:Bioabfall
DESCRIPTION:
URL:https://thal.gv.at/veranstaltung/bioabfall-148/
CATEGORIES:Abfuhrkalender,Biomüll (Bio)
END:VEVENT
BEGIN:VEVENT
DTSTART;VALUE=DATE:20260429
DTEND;VALUE=DATE:20260430
DTSTAMP:20260422T141856
CREATED:20251128T074544Z
LAST-MODIFIED:20251128T074544Z
UID:13109-1777420800-1777507199@thal.gv.at
SUMMARY:Bioabfall
DESCRIPTION:
URL:https://thal.gv.at/veranstaltung/bioabfall-149/
CATEGORIES:Abfuhrkalender,Biomüll (Bio)
END:VEVENT
END:VCALENDAR