BEGIN:VCALENDAR
VERSION:2.0
PRODID:-//Marktgemeinde Thal - ECPv4.6.11.1//NONSGML v1.0//EN
CALSCALE:GREGORIAN
METHOD:PUBLISH
X-WR-CALNAME:Marktgemeinde Thal
X-ORIGINAL-URL:https://thal.gv.at
X-WR-CALDESC:Veranstaltungen für Marktgemeinde Thal
BEGIN:VEVENT
DTSTART;TZID=Europe/Berlin:20260425T100000
DTEND;TZID=Europe/Berlin:20260425T150000
DTSTAMP:20260425T171720
CREATED:20251219T105133Z
LAST-MODIFIED:20251219T105133Z
UID:13355-1777111200-1777129200@thal.gv.at
SUMMARY:Thal blüht auf\, Liste Matthias Brunner - Thaler Volkspartei
DESCRIPTION:
URL:https://thal.gv.at/veranstaltung/thal-blueht-auf-liste-matthias-brunner-thaler-volkspartei-5/
LOCATION:Am Kirchberg 1\, Thal\, Steiermark\, 8051
CATEGORIES:Veranstaltungen
END:VEVENT
BEGIN:VEVENT
DTSTART;TZID=Europe/Berlin:20260425T110000
DTEND;TZID=Europe/Berlin:20260425T180000
DTSTAMP:20260425T171720
CREATED:20251219T093223Z
LAST-MODIFIED:20260413T101039Z
UID:13321-1777114800-1777140000@thal.gv.at
SUMMARY:Frühlingsmarkt bei den Ponytalern
DESCRIPTION:Samstag\, 25.04.2026\, 11.00 – 18.00 Uhr\nSonntag\, 26.04.2026\, 10.00 – 17.00 Uhr\nbei den Ponytalern\, Fuchsbichlerweg 2\, 8051Thal. \nProgramm:\n11.00 Uhr Kutschenfahrten\n13.30 – 15.30 Uhr Kinderschminken\n14.00 – 16.00 Uhr buntes Kinderprogramm \nAußerdem erwartet euch ein Markt mit zahlreichen Ausstellern\, Kutschenfahrten mit den Mini-Shetlandponys und einer Fotobox. Für das leibliche Wohl ist gesorgt. \nBei Schlechtwetter findet das Hoffest nicht statt. \nWir freuen uns auf euren Besuch!\nGabi und Hansi Deutsch \n
URL:https://thal.gv.at/veranstaltung/ostermarkt-bei-den-ponytalern/
LOCATION:Steiermark
CATEGORIES:Veranstaltungen
END:VEVENT
BEGIN:VEVENT
DTSTART;TZID=Europe/Berlin:20260425T190000
DTEND;TZID=Europe/Berlin:20260425T190000
DTSTAMP:20260425T171720
CREATED:20251219T103817Z
LAST-MODIFIED:20260327T072713Z
UID:13345-1777143600-1777143600@thal.gv.at
SUMMARY:Theater\, Stern-Thaler
DESCRIPTION:Bühne frei! Die Laientheatergruppe Stern‑Thaler lädt wieder zu ihrer unterhaltsamen Aufführung in die Sporthalle der Volksschule ein. Dieses Jahr präsentieren die Hobby-Schauspieler*innen die Komödie „Mit allen Wassern gewaschen!“ von Beate Irmisch\, welche die Besucher*innen mit humorvollen Szenen in drei Akten unterhalten wird. Freuen Sie sich auf einen Abend voll herzhaften Lachens! \nTermine:\n Premiere: Freitag\, 24. April 2026\, 19.00 Uhr\n Samstag\, 25. April 2026\,19.00 Uhr\n Sonntag\, 26. April 2026\, 16.00 Uhr\n Donnerstag\, 30. April 2026\, 19.00 Uhr\n Freitag\, 01. Mai 2026\, 16.00 Uhr\n Samstag\, 02. Mai 2026\, 19.00 Uhr \nPreis: € 12\,00 Erwachsene\n € 6\,00 Kinder bis 12 Jahre \nKartenreservierung ab 25. März 2026 (Di bis Do\, 16.00 bis 19.00 Uhr und Sa\, 10.00 bis 12.00 Uhr) unter der Telefonnummer T +43 (0) 677 63 86 36 21\nEure Stern-Thaler \n
URL:https://thal.gv.at/veranstaltung/theater-stern-thaler-21/
LOCATION:Steiermark
CATEGORIES:Veranstaltungen
ORGANIZER;CN="Stern-Thaler":MAILTO:stern-thaler@aon.at
END:VEVENT
END:VCALENDAR