BEGIN:VCALENDAR
VERSION:2.0
PRODID:-//Marktgemeinde Thal - ECPv4.6.11.1//NONSGML v1.0//EN
CALSCALE:GREGORIAN
METHOD:PUBLISH
X-WR-CALNAME:Marktgemeinde Thal
X-ORIGINAL-URL:https://thal.gv.at
X-WR-CALDESC:Veranstaltungen für Marktgemeinde Thal
BEGIN:VEVENT
DTSTART;VALUE=DATE:20231216
DTEND;VALUE=DATE:20231218
DTSTAMP:20260423T202724
CREATED:20230112T100339Z
LAST-MODIFIED:20230112T100339Z
UID:10140-1702684800-1702857599@thal.gv.at
SUMMARY:Christkindlmarkt
DESCRIPTION:
URL:https://thal.gv.at/veranstaltung/christkindlmarkt-3/
LOCATION:Am Kirchberg\, Thal
CATEGORIES:Veranstaltungen
ORGANIZER;CN="Marktgemeinde%20Thal":MAILTO:gemeinde@thal.gv.at
END:VEVENT
END:VCALENDAR