BEGIN:VCALENDAR
VERSION:2.0
PRODID:-//Marktgemeinde Thal - ECPv4.6.11.1//NONSGML v1.0//EN
CALSCALE:GREGORIAN
METHOD:PUBLISH
X-WR-CALNAME:Marktgemeinde Thal
X-ORIGINAL-URL:https://thal.gv.at
X-WR-CALDESC:Veranstaltungen für Marktgemeinde Thal
BEGIN:VEVENT
DTSTART;TZID=Europe/Berlin:20260426T163000
DTEND;TZID=Europe/Berlin:20260426T163000
DTSTAMP:20260420T005728
CREATED:20251219T104329Z
LAST-MODIFIED:20251219T104329Z
UID:13347-1777221000-1777221000@thal.gv.at
SUMMARY:Theater\, Stern-Thaler
DESCRIPTION:
URL:https://thal.gv.at/veranstaltung/theater-stern-thaler-22/
CATEGORIES:Veranstaltungen
ORGANIZER;CN="Stern-Thaler":MAILTO:stern-thaler@aon.at
END:VEVENT
END:VCALENDAR