BEGIN:VCALENDAR
VERSION:2.0
PRODID:-//Marktgemeinde Thal - ECPv4.6.11.1//NONSGML v1.0//EN
CALSCALE:GREGORIAN
METHOD:PUBLISH
X-WR-CALNAME:Marktgemeinde Thal
X-ORIGINAL-URL:https://thal.gv.at
X-WR-CALDESC:Veranstaltungen für Marktgemeinde Thal
BEGIN:VEVENT
DTSTART;TZID=Europe/Berlin:20260425T190000
DTEND;TZID=Europe/Berlin:20260425T190000
DTSTAMP:20260419T235906
CREATED:20251219T103817Z
LAST-MODIFIED:20260327T072713Z
UID:13345-1777143600-1777143600@thal.gv.at
SUMMARY:Theater\, Stern-Thaler
DESCRIPTION:Bühne frei! Die Laientheatergruppe Stern‑Thaler lädt wieder zu ihrer unterhaltsamen Aufführung in die Sporthalle der Volksschule ein. Dieses Jahr präsentieren die Hobby-Schauspieler*innen die Komödie „Mit allen Wassern gewaschen!“ von Beate Irmisch\, welche die Besucher*innen mit humorvollen Szenen in drei Akten unterhalten wird. Freuen Sie sich auf einen Abend voll herzhaften Lachens! \nTermine:\n Premiere: Freitag\, 24. April 2026\, 19.00 Uhr\n Samstag\, 25. April 2026\,19.00 Uhr\n Sonntag\, 26. April 2026\, 16.00 Uhr\n Donnerstag\, 30. April 2026\, 19.00 Uhr\n Freitag\, 01. Mai 2026\, 16.00 Uhr\n Samstag\, 02. Mai 2026\, 19.00 Uhr \nPreis: € 12\,00 Erwachsene\n € 6\,00 Kinder bis 12 Jahre \nKartenreservierung ab 25. März 2026 (Di bis Do\, 16.00 bis 19.00 Uhr und Sa\, 10.00 bis 12.00 Uhr) unter der Telefonnummer T +43 (0) 677 63 86 36 21\nEure Stern-Thaler \n
URL:https://thal.gv.at/veranstaltung/theater-stern-thaler-21/
CATEGORIES:Veranstaltungen
ORGANIZER;CN="Stern-Thaler":MAILTO:stern-thaler@aon.at
END:VEVENT
END:VCALENDAR