BEGIN:VCALENDAR
VERSION:2.0
PRODID:-//Marktgemeinde Thal - ECPv4.6.11.1//NONSGML v1.0//EN
CALSCALE:GREGORIAN
METHOD:PUBLISH
X-WR-CALNAME:Marktgemeinde Thal
X-ORIGINAL-URL:https://thal.gv.at
X-WR-CALDESC:Veranstaltungen für Marktgemeinde Thal
BEGIN:VEVENT
DTSTART;TZID=Europe/Berlin:20220506T190000
DTEND;TZID=Europe/Berlin:20220506T190000
DTSTAMP:20260420T032909
CREATED:20171211T143013Z
LAST-MODIFIED:20220425T072708Z
UID:2806-1651863600-1651863600@thal.gv.at
SUMMARY:Abgesagt: Theater\, Stern-Thaler
DESCRIPTION:
URL:https://thal.gv.at/veranstaltung/theater-9/
CATEGORIES:Veranstaltungen
ORGANIZER;CN="Stern-Thaler":MAILTO:stern-thaler@aon.at
END:VEVENT
END:VCALENDAR