BEGIN:VCALENDAR
VERSION:2.0
PRODID:-//Marktgemeinde Thal - ECPv4.6.11.1//NONSGML v1.0//EN
CALSCALE:GREGORIAN
METHOD:PUBLISH
X-WR-CALNAME:Marktgemeinde Thal
X-ORIGINAL-URL:https://thal.gv.at
X-WR-CALDESC:Veranstaltungen für Marktgemeinde Thal
BEGIN:VEVENT
DTSTART;TZID=Europe/Berlin:20260507T190000
DTEND;TZID=Europe/Berlin:20260507T190000
DTSTAMP:20260423T145142
CREATED:20260422T052110Z
LAST-MODIFIED:20260422T052110Z
UID:13663-1778180400-1778180400@thal.gv.at
SUMMARY:Thaler Themen-Talk: Kinder und junge Erwachsene schützen
DESCRIPTION:Die ÖAAB-Ortsgruppe lädt ein zum Thaler Themen-Talk mit Mag.a Denise Schiffrer-Barac. \n\nAm Donnerstag\, 07. Mai 2026\, 19.00 Uhr\nim Thalsaal\nEintritt: freiwillige Spende \n\nDie Kinder- und Jugendanwältin der Steiermark beschäftigt sich dabei mit einem top-aktuellen Thema unserer Zeit: Dem sicheren Aufwachsen unserer Kinder und was es dazu braucht! Kinderrechte in Zeiten multipler Krisen\, die gesteigerte Gewaltbereitschaft unter Kindern und Jugendlichen und ihre Auswirkungen auf den Schulalltag sowie die besondere Bedeutung eines verantwortungsvollen Umgangs mit Social Media bilden demnach den Kern dieses neuen Thaler Veranstaltungsformats.\nÖAAB Ortsgruppe Thal \n
URL:https://thal.gv.at/veranstaltung/thaler-themen-talk-kinder-und-junge-erwachsene-schuetzen/
CATEGORIES:Veranstaltungen
END:VEVENT
END:VCALENDAR