BEGIN:VCALENDAR
VERSION:2.0
PRODID:-//Marktgemeinde Thal - ECPv4.6.11.1//NONSGML v1.0//EN
CALSCALE:GREGORIAN
METHOD:PUBLISH
X-WR-CALNAME:Marktgemeinde Thal
X-ORIGINAL-URL:https://thal.gv.at
X-WR-CALDESC:Veranstaltungen für Marktgemeinde Thal
BEGIN:VEVENT
DTSTART;VALUE=DATE:20260924
DTEND;VALUE=DATE:20260925
DTSTAMP:20260419T214521
CREATED:20251218T111250Z
LAST-MODIFIED:20251218T111250Z
UID:13249-1790208000-1790294399@thal.gv.at
SUMMARY:Restmüll (Tour2)
DESCRIPTION:\nKötschberg\nOberbichl\nOberthal\nSchlüsselhof\nWaldsdorf\nWaldsdorfberg\nWendlleiten\nWinkel\n\n
URL:https://thal.gv.at/veranstaltung/restmuell-tour2-40/
CATEGORIES:Abfuhrkalender,Restmüll Tour 2
END:VEVENT
END:VCALENDAR