BEGIN:VCALENDAR
VERSION:2.0
PRODID:-//Marktgemeinde Thal - ECPv4.6.11.1//NONSGML v1.0//EN
CALSCALE:GREGORIAN
METHOD:PUBLISH
X-WR-CALNAME:Marktgemeinde Thal
X-ORIGINAL-URL:https://thal.gv.at
X-WR-CALDESC:Veranstaltungen für Marktgemeinde Thal
BEGIN:VEVENT
DTSTART;VALUE=DATE:20260827
DTEND;VALUE=DATE:20260828
DTSTAMP:20260420T040030
CREATED:20251218T111148Z
LAST-MODIFIED:20251218T111148Z
UID:13247-1787788800-1787875199@thal.gv.at
SUMMARY:Restmüll (Tour2)
DESCRIPTION:\nKötschberg\nOberbichl\nOberthal\nSchlüsselhof\nWaldsdorf\nWaldsdorfberg\nWendlleiten\nWinkel\n\n
URL:https://thal.gv.at/veranstaltung/restmuell-tour2-39/
CATEGORIES:Abfuhrkalender,Restmüll Tour 2
END:VEVENT
END:VCALENDAR