BEGIN:VCALENDAR
VERSION:2.0
PRODID:-//Marktgemeinde Thal - ECPv4.6.11.1//NONSGML v1.0//EN
CALSCALE:GREGORIAN
METHOD:PUBLISH
X-WR-CALNAME:Marktgemeinde Thal
X-ORIGINAL-URL:https://thal.gv.at
X-WR-CALDESC:Veranstaltungen für Marktgemeinde Thal
BEGIN:VEVENT
DTSTART;TZID=Europe/Berlin:20260604T100000
DTEND;TZID=Europe/Berlin:20260604T100000
DTSTAMP:20260423T204309
CREATED:20251222T100244Z
LAST-MODIFIED:20251222T100244Z
UID:13385-1780567200-1780567200@thal.gv.at
SUMMARY:Pfarrfest & Fronleichnamsprozession\, Pfarre Thal
DESCRIPTION:
URL:https://thal.gv.at/veranstaltung/pfarrfest-fronleichnamsprozession-pfarre-thal-2/
LOCATION:Am Kirchberg 3\, Thal\, 8051\, Österreich
CATEGORIES:Veranstaltungen
ORGANIZER;CN="Pfarre%20Thal":MAILTO:http://thal.graz-seckau.at/
END:VEVENT
END:VCALENDAR