BEGIN:VCALENDAR
VERSION:2.0
PRODID:-//Marktgemeinde Thal - ECPv4.6.11.1//NONSGML v1.0//EN
CALSCALE:GREGORIAN
METHOD:PUBLISH
X-WR-CALNAME:Marktgemeinde Thal
X-ORIGINAL-URL:https://thal.gv.at
X-WR-CALDESC:Veranstaltungen für Marktgemeinde Thal
BEGIN:VEVENT
DTSTART;TZID=Europe/Berlin:20260912T090000
DTEND;TZID=Europe/Berlin:20260912T090000
DTSTAMP:20260423T170403
CREATED:20251222T140440Z
LAST-MODIFIED:20251222T140440Z
UID:13413-1789203600-1789203600@thal.gv.at
SUMMARY:Ortsvereine-Turnier\, ESV Thal
DESCRIPTION:
URL:https://thal.gv.at/veranstaltung/ortsvereine-turnier-esv-thal-4/
LOCATION:Thalerseestraße 75\, Thal\, 8052
GEO:47.0582852;15.3660897
X-APPLE-STRUCTURED-LOCATION;VALUE=URI;X-ADDRESS=Thalerseestraße 75 Thal 8052;X-APPLE-RADIUS=500;X-TITLE=Thalerseestraße 75:geo:15.3660897,47.0582852
CATEGORIES:Veranstaltungen
ORGANIZER;CN="ESV%20Thal":MAILTO:harald.hansmann@holding-graz.at
END:VEVENT
END:VCALENDAR