BEGIN:VCALENDAR
VERSION:2.0
PRODID:-//Marktgemeinde Thal - ECPv4.6.11.1//NONSGML v1.0//EN
CALSCALE:GREGORIAN
METHOD:PUBLISH
X-WR-CALNAME:Marktgemeinde Thal
X-ORIGINAL-URL:https://thal.gv.at
X-WR-CALDESC:Veranstaltungen für Marktgemeinde Thal
BEGIN:VEVENT
DTSTART;TZID=Europe/Berlin:20260205T183000
DTEND;TZID=Europe/Berlin:20260205T183000
DTSTAMP:20260424T122454
CREATED:20251218T133940Z
LAST-MODIFIED:20260120T082649Z
UID:13294-1770316200-1770316200@thal.gv.at
SUMMARY:Mitgliederversammlung\, MMV
DESCRIPTION:Der Marktmusikverein Thal lädt herzlich zur Mitgliederversammlung am Donnerstag\, 05.02.2026\, um 18.30 Uhr im Wirtshaus „Der Kreuzwirt“ ein. \nAnträge auf Statutenänderungen müssen spätestens 3 Tage vor der Mitgliederversammlung schriftlich eingebracht werden. Die ordnungsgemäß einberufene Mitgliederversammlung ist eine halbe Stunde nach Beginn\, bei jeder Anzahl der erschienenen Mitglieder\, beschlussfähig. \nEuer MMV \n
URL:https://thal.gv.at/veranstaltung/mitgliederversammlung-mmv-3/
LOCATION:Weingartenweg 2\, Thal\, 8051
GEO:47.0901379;15.3503656
X-APPLE-STRUCTURED-LOCATION;VALUE=URI;X-ADDRESS=Weingartenweg 2 Thal 8051;X-APPLE-RADIUS=500;X-TITLE=Weingartenweg 2:geo:15.3503656,47.0901379
CATEGORIES:Veranstaltungen
END:VEVENT
END:VCALENDAR