BEGIN:VCALENDAR
VERSION:2.0
PRODID:-//Marktgemeinde Thal - ECPv4.6.11.1//NONSGML v1.0//EN
CALSCALE:GREGORIAN
METHOD:PUBLISH
X-WR-CALNAME:Marktgemeinde Thal
X-ORIGINAL-URL:https://thal.gv.at
X-WR-CALDESC:Veranstaltungen für Marktgemeinde Thal
BEGIN:VEVENT
DTSTART;VALUE=DATE:20261113
DTEND;VALUE=DATE:20261114
DTSTAMP:20260421T133544
CREATED:20251218T130257Z
LAST-MODIFIED:20251218T130257Z
UID:13271-1794528000-1794614399@thal.gv.at
SUMMARY:Leicht- und Metallverpackungen (LVP/MVP)
DESCRIPTION:
URL:https://thal.gv.at/veranstaltung/leicht-und-metallverpackungen-lvpmvp-17/
CATEGORIES:Abfuhrkalender,Kunststoffverpackungen
END:VEVENT
END:VCALENDAR