BEGIN:VCALENDAR
VERSION:2.0
PRODID:-//Marktgemeinde Thal - ECPv4.6.11.1//NONSGML v1.0//EN
CALSCALE:GREGORIAN
METHOD:PUBLISH
X-WR-CALNAME:Marktgemeinde Thal
X-ORIGINAL-URL:https://thal.gv.at
X-WR-CALDESC:Veranstaltungen für Marktgemeinde Thal
BEGIN:VEVENT
DTSTART;VALUE=DATE:20260719
DTEND;VALUE=DATE:20260720
DTSTAMP:20260423T190433
CREATED:20251222T133221Z
LAST-MODIFIED:20251222T133221Z
UID:13405-1784419200-1784505599@thal.gv.at
SUMMARY:Jakobikirtag 2026
DESCRIPTION:
URL:https://thal.gv.at/veranstaltung/jakobikirtag-2026/
LOCATION:Am Kirchberg 1\, Thal\, Steiermark\, 8051
CATEGORIES:Veranstaltungen
ORGANIZER;CN="Marktgemeinde%20Thal":MAILTO:gemeinde@thal.gv.at
END:VEVENT
END:VCALENDAR