BEGIN:VCALENDAR
VERSION:2.0
PRODID:-//Marktgemeinde Thal - ECPv4.6.11.1//NONSGML v1.0//EN
CALSCALE:GREGORIAN
METHOD:PUBLISH
X-WR-CALNAME:Marktgemeinde Thal
X-ORIGINAL-URL:https://thal.gv.at
X-WR-CALDESC:Veranstaltungen für Marktgemeinde Thal
BEGIN:VEVENT
DTSTART;TZID=Europe/Berlin:20260509T190000
DTEND;TZID=Europe/Berlin:20260509T190000
DTSTAMP:20260423T205319
CREATED:20251222T081108Z
LAST-MODIFIED:20260422T052302Z
UID:13377-1778353200-1778353200@thal.gv.at
SUMMARY:Frühlingskonzert\, Singkreis Thal
DESCRIPTION:In der Pfarrkirche Thal findet am Samstag\, den 9. Mai 2026\, 19.00 Uhr\, das Frühlingskonzert unter der musikalischen Leitung von Chia-Wen Hsieh-Nitsche und der Mitwirkung der Instrumentalgruppe Rosenholz statt. \nEintritt: Freiwillige Spende \nDas Pfarrcafé ist bereits ab 18.00 Uhr für unsere Besucher*innen geöffnet. \nDer Singkreis Thal freut sich auf Ihr Kommen! \n
URL:https://thal.gv.at/veranstaltung/fruehlingskonzert-singkreis-thal-4/
LOCATION:Am Kirchberg 3\, Thal\, Steiermark\, 8051\, Österreich
GEO:47.0769298;15.3587369
X-APPLE-STRUCTURED-LOCATION;VALUE=URI;X-ADDRESS=Am Kirchberg 3 Thal Steiermark 8051 Österreich;X-APPLE-RADIUS=500;X-TITLE=Am Kirchberg 3:geo:15.3587369,47.0769298
CATEGORIES:Veranstaltungen
ORGANIZER;CN="Singkreis%20Thal":MAILTO:silvia.habach@gmail.com
END:VEVENT
END:VCALENDAR