BEGIN:VCALENDAR
VERSION:2.0
PRODID:-//Marktgemeinde Thal - ECPv4.6.11.1//NONSGML v1.0//EN
CALSCALE:GREGORIAN
METHOD:PUBLISH
X-WR-CALNAME:Marktgemeinde Thal
X-ORIGINAL-URL:https://thal.gv.at
X-WR-CALDESC:Veranstaltungen für Marktgemeinde Thal
BEGIN:VEVENT
DTSTART;TZID=Europe/Berlin:20261224T090000
DTEND;TZID=Europe/Berlin:20261224T110000
DTSTAMP:20260423T150945
CREATED:20251222T142458Z
LAST-MODIFIED:20251222T142458Z
UID:13434-1798102800-1798110000@thal.gv.at
SUMMARY:Friedenslicht-Aktion\, FF Steinberg-Rohrbach
DESCRIPTION:
URL:https://thal.gv.at/veranstaltung/friedenslicht-aktion-ff-steinberg-rohrbach-8/
CATEGORIES:Veranstaltungen
END:VEVENT
END:VCALENDAR