BEGIN:VCALENDAR
VERSION:2.0
PRODID:-//Marktgemeinde Thal - ECPv4.6.11.1//NONSGML v1.0//EN
CALSCALE:GREGORIAN
METHOD:PUBLISH
X-WR-CALNAME:Marktgemeinde Thal
X-ORIGINAL-URL:https://thal.gv.at
X-WR-CALDESC:Veranstaltungen für Marktgemeinde Thal
BEGIN:VEVENT
DTSTART;TZID=Europe/Berlin:20260704T200000
DTEND;TZID=Europe/Berlin:20260704T200000
DTSTAMP:20260423T190255
CREATED:20251222T110618Z
LAST-MODIFIED:20251222T110618Z
UID:13401-1783195200-1783195200@thal.gv.at
SUMMARY:Felsenfest\, FF Steinberg-Rohrbach
DESCRIPTION:
URL:https://thal.gv.at/veranstaltung/felsenfest-ff-steinberg-rohrbach-3/
CATEGORIES:Veranstaltungen
END:VEVENT
END:VCALENDAR