BEGIN:VCALENDAR
VERSION:2.0
PRODID:-//Marktgemeinde Thal - ECPv4.6.11.1//NONSGML v1.0//EN
CALSCALE:GREGORIAN
METHOD:PUBLISH
X-WR-CALNAME:Marktgemeinde Thal
X-ORIGINAL-URL:https://thal.gv.at
X-WR-CALDESC:Veranstaltungen für Marktgemeinde Thal
BEGIN:VEVENT
DTSTART;VALUE=DATE:20170507
DTEND;VALUE=DATE:20170508
DTSTAMP:20260422T180332
CREATED:20170410T085928Z
LAST-MODIFIED:20170410T085928Z
UID:1517-1494115200-1494201599@thal.gv.at
SUMMARY:Erstkommunion
DESCRIPTION:
URL:https://thal.gv.at/veranstaltung/erstkommunion/
CATEGORIES:Veranstaltungen
ORGANIZER;CN="Pfarre%20Thal":MAILTO:http://thal.graz-seckau.at/
END:VEVENT
END:VCALENDAR