BEGIN:VCALENDAR
VERSION:2.0
PRODID:-//Marktgemeinde Thal - ECPv4.6.11.1//NONSGML v1.0//EN
CALSCALE:GREGORIAN
METHOD:PUBLISH
X-WR-CALNAME:Marktgemeinde Thal
X-ORIGINAL-URL:https://thal.gv.at
X-WR-CALDESC:Veranstaltungen für Marktgemeinde Thal
BEGIN:VEVENT
DTSTART;VALUE=DATE:20230913
DTEND;VALUE=DATE:20230914
DTSTAMP:20260420T194617
CREATED:20230110T090433Z
LAST-MODIFIED:20230110T090433Z
UID:9909-1694563200-1694649599@thal.gv.at
SUMMARY:Bioabfall
DESCRIPTION:
URL:https://thal.gv.at/veranstaltung/bioabfall-73/
CATEGORIES:Abfuhrkalender,Biomüll (Bio)
END:VEVENT
END:VCALENDAR