BEGIN:VCALENDAR
VERSION:2.0
PRODID:-//Marktgemeinde Thal - ECPv4.6.11.1//NONSGML v1.0//EN
CALSCALE:GREGORIAN
METHOD:PUBLISH
X-WR-CALNAME:Marktgemeinde Thal
X-ORIGINAL-URL:https://thal.gv.at
X-WR-CALDESC:Veranstaltungen für Marktgemeinde Thal
BEGIN:VEVENT
DTSTART;VALUE=DATE:20260520
DTEND;VALUE=DATE:20260521
DTSTAMP:20260419T164955
CREATED:20251216T073517Z
LAST-MODIFIED:20251216T073517Z
UID:13123-1779235200-1779321599@thal.gv.at
SUMMARY:Bioabfall
DESCRIPTION:
URL:https://thal.gv.at/veranstaltung/bioabfall-152/
CATEGORIES:Abfuhrkalender,Biomüll (Bio)
END:VEVENT
END:VCALENDAR