BEGIN:VCALENDAR
VERSION:2.0
PRODID:-//Marktgemeinde Thal - ECPv4.6.11.1//NONSGML v1.0//EN
CALSCALE:GREGORIAN
METHOD:PUBLISH
X-WR-CALNAME:Marktgemeinde Thal
X-ORIGINAL-URL:https://thal.gv.at
X-WR-CALDESC:Veranstaltungen für Marktgemeinde Thal
BEGIN:VEVENT
DTSTART;TZID=Europe/Berlin:20260423T124956
DTEND;TZID=Europe/Berlin:20260423T124956
DTSTAMP:20260423T104956
CREATED:20170215T104411Z
LAST-MODIFIED:20170215T104411Z
UID:1286-1776948596-1776948596@thal.gv.at
SUMMARY:Thaler Perchten
DESCRIPTION:
URL:https://thal.gv.at/veranstalter/thaler-perchten/
END:VEVENT
END:VCALENDAR