BEGIN:VCALENDAR
VERSION:2.0
PRODID:-//Marktgemeinde Thal - ECPv4.6.11.1//NONSGML v1.0//EN
CALSCALE:GREGORIAN
METHOD:PUBLISH
X-WR-CALNAME:Marktgemeinde Thal
X-ORIGINAL-URL:https://thal.gv.at
X-WR-CALDESC:Veranstaltungen für Marktgemeinde Thal
BEGIN:VEVENT
DTSTART;TZID=Europe/Berlin:20260423T184536
DTEND;TZID=Europe/Berlin:20260423T184536
DTSTAMP:20260423T164536
CREATED:20260422T052125Z
LAST-MODIFIED:20260422T052125Z
UID:13665-1776969936-1776969936@thal.gv.at
SUMMARY:ÖAAB Ortrsgruppe Thal
DESCRIPTION:
URL:https://thal.gv.at/veranstalter/oeaab-ortrsgruppe-thal/
END:VEVENT
END:VCALENDAR