BEGIN:VCALENDAR
VERSION:2.0
PRODID:-//Marktgemeinde Thal - ECPv4.6.11.1//NONSGML v1.0//EN
CALSCALE:GREGORIAN
METHOD:PUBLISH
X-WR-CALNAME:Marktgemeinde Thal
X-ORIGINAL-URL:https://thal.gv.at
X-WR-CALDESC:Veranstaltungen für Marktgemeinde Thal
BEGIN:VEVENT
DTSTART;TZID=Europe/Berlin:20260424T084227
DTEND;TZID=Europe/Berlin:20260424T084227
DTSTAMP:20260424T064227
CREATED:20181106T065928Z
LAST-MODIFIED:20181106T065928Z
UID:4270-1777020147-1777020147@thal.gv.at
SUMMARY:Bauerbund Thal
DESCRIPTION:
URL:https://thal.gv.at/veranstalter/bauerbund-thal/
END:VEVENT
END:VCALENDAR