BEGIN:VCALENDAR
VERSION:2.0
PRODID:-//Marktgemeinde Thal - ECPv4.6.11.1//NONSGML v1.0//EN
CALSCALE:GREGORIAN
METHOD:PUBLISH
X-WR-CALNAME:Marktgemeinde Thal
X-ORIGINAL-URL:https://thal.gv.at
X-WR-CALDESC:Veranstaltungen für Marktgemeinde Thal
BEGIN:VEVENT
DTSTART;TZID=Europe/Berlin:20260419T184955
DTEND;TZID=Europe/Berlin:20260419T184955
DTSTAMP:20260419T164955
CREATED:20250627T060016Z
LAST-MODIFIED:20250627T060031Z
UID:12817-1776624595-1776624595@thal.gv.at
SUMMARY:Übertragungsverordnung gem. § 43 Abs. 2 GemO
DESCRIPTION:\n			\n				\n\n			\n		\n			\n				GRS_004_1_2025_2_Einladung \n\n\n			\n		\n
URL:https://thal.gv.at/kundmachung-amtstafel/uebertragungsverordnung-gem-43-abs-2-gemo/
ATTACH;FMTTYPE=image/jpeg:https://thal.gv.at/wp-content/uploads/2023/01/thal-kundmachung-300x209-1.jpg
END:VEVENT
END:VCALENDAR