BEGIN:VCALENDAR
VERSION:2.0
PRODID:-//Marktgemeinde Thal - ECPv4.6.11.1//NONSGML v1.0//EN
CALSCALE:GREGORIAN
METHOD:PUBLISH
X-WR-CALNAME:Marktgemeinde Thal
X-ORIGINAL-URL:https://thal.gv.at
X-WR-CALDESC:Veranstaltungen für Marktgemeinde Thal
BEGIN:VEVENT
DTSTART;TZID=Europe/Berlin:20260423T130412
DTEND;TZID=Europe/Berlin:20260423T130412
DTSTAMP:20260423T110412
CREATED:20240715T145917Z
LAST-MODIFIED:20240715T145917Z
UID:11619-1776949452-1776949452@thal.gv.at
SUMMARY:Jakobikirtag 2024
DESCRIPTION:\n			\n				\n\n			\n		\n			\n				PDF downloaden \n\n\n			\n		\n
URL:https://thal.gv.at/kundmachung-amtstafel/jakobikirtag-2024/
ATTACH;FMTTYPE=image/jpeg:https://thal.gv.at/wp-content/uploads/2024/07/unbenannt.jpg
END:VEVENT
END:VCALENDAR