BEGIN:VCALENDAR
VERSION:2.0
PRODID:-//Marktgemeinde Thal - ECPv4.6.11.1//NONSGML v1.0//EN
CALSCALE:GREGORIAN
METHOD:PUBLISH
X-WR-CALNAME:Marktgemeinde Thal
X-ORIGINAL-URL:https://thal.gv.at
X-WR-CALDESC:Veranstaltungen für Marktgemeinde Thal
BEGIN:VEVENT
DTSTART;TZID=Europe/Berlin:20260422T105428
DTEND;TZID=Europe/Berlin:20260422T105428
DTSTAMP:20260422T085428
CREATED:20250930T072733Z
LAST-MODIFIED:20251008T062726Z
UID:12961-1776855268-1776855268@thal.gv.at
SUMMARY:GemeindeInfo Nr. 246 - September 2025
DESCRIPTION:\n			\n				\n\n			\n		\n			\n				PDF downloaden \n\n\n			\n		\n
URL:https://thal.gv.at/kundmachung-amtstafel/gemeindeinfo-nr-245-september-2025-2/
ATTACH;FMTTYPE=image/jpeg:https://thal.gv.at/wp-content/uploads/2025/09/unbenannt-2.jpg
END:VEVENT
END:VCALENDAR