BEGIN:VCALENDAR
VERSION:2.0
PRODID:-//Marktgemeinde Thal - ECPv4.6.11.1//NONSGML v1.0//EN
CALSCALE:GREGORIAN
METHOD:PUBLISH
X-WR-CALNAME:Marktgemeinde Thal
X-ORIGINAL-URL:https://thal.gv.at
X-WR-CALDESC:Veranstaltungen für Marktgemeinde Thal
BEGIN:VEVENT
DTSTART;TZID=Europe/Berlin:20260422T034353
DTEND;TZID=Europe/Berlin:20260422T034353
DTSTAMP:20260422T014353
CREATED:20200310T063044Z
LAST-MODIFIED:20210304T084406Z
UID:6484-1776829433-1776829433@thal.gv.at
SUMMARY:Gemeindezeitung Nr. 15 - März 2020
DESCRIPTION:\n			\n				\n\n			\n		\n			\n				PDF downloaden \n\n\n			\n		\n
URL:https://thal.gv.at/kundmachung-amtstafel/gemeinde-info-nr-73-maerz-2020/
ATTACH;FMTTYPE=image/jpeg:https://thal.gv.at/wp-content/uploads/2020/03/gemeinde-zeitung-nr.-15-page-001.jpg
END:VEVENT
END:VCALENDAR